View In:
ArcGIS JavaScript
ArcGIS Online Map Viewer
ArcGIS Earth
Service Description: carte_potentiality
Name: carte_potentiality
Description:
Single Fused Map Cache: false
Extent:
XMin: 680213.609404281
YMin: 3786609.9032805227
XMax: 780213.609404281
YMax: 3926609.9032805227
Spatial Reference: 0
(0)
LatestVCSWkid(0)
Initial Extent:
XMin: 680213.609404281
YMin: 3786609.9032805227
XMax: 780213.609404281
YMax: 3926609.9032805227
Spatial Reference: 0
(0)
LatestVCSWkid(0)
Full Extent:
XMin: 680213.609404281
YMin: 3786609.9032805227
XMax: 780213.609404281
YMax: 3926609.9032805227
Spatial Reference: 0
(0)
LatestVCSWkid(0)
Pixel Size X: 200.0
Pixel Size Y: 200.0
Band Count: 1
Pixel Type: U4
RasterFunction Infos: {"rasterFunctionInfos": [{
"name": "None",
"description": "",
"help": ""
}]}
Mensuration Capabilities: Basic
Inspection Capabilities:
Has Histograms: true
Has Colormap: false
Has Multi Dimensions : false
Rendering Rule:
Min Scale: 0
Max Scale: 0
Copyright Text:
Service Data Type: esriImageServiceDataTypeThematic
Min Values: 1
Max Values: 5
Mean Values: 2.6315072505544
Standard Deviation Values: 1.3260726651581
Object ID Field:
Fields:
None
Default Mosaic Method: Center
Allowed Mosaic Methods:
SortField:
SortValue: null
Mosaic Operator: First
Default Compression Quality: 75
Default Resampling Method: Bilinear
Max Record Count: null
Max Image Height: 4100
Max Image Width: 15000
Max Download Image Count: null
Max Mosaic Image Count: null
Allow Raster Function: true
Allow Copy: true
Allow Analysis: true
Allow Compute TiePoints: false
Supports Statistics: false
Supports Advanced Queries: false
Use StandardizedQueries: true
Raster Type Infos:
Name: Raster Dataset
Description: Supports all ArcGIS Raster Datasets
Help:
Has Raster Attribute Table: true
Edit Fields Info: null
Ownership Based AccessControl For Rasters: null
Child Resources:
Info
Raster Attribute Table
Histograms
Statistics
Key Properties
Legend
Raster Function Infos
Supported Operations:
Export Image
Identify
Measure
Compute Histograms
Compute Statistics Histograms
Get Samples
Compute Class Statistics
Query Boundary
Compute Pixel Location
Compute Angles
Validate
Project